BEGIN:VCALENDAR
VERSION:2.0
PRODID:SchoolNow
CALSCALE:GREGORIAN
BEGIN:VEVENT
UID:529095d2-7ddb-11f0-ac94-0e5d3462789d
DTSTAMP:20250820T153538Z
SUMMARY:Board Ad Hoc Routine Consent Committee meeting (1/26)
LOCATION:Harriet Gibbons Student Services Center\, 75 Watervliet Ave.
URL;VALUE=URI:https://www.albanyschools.org/boe/calendar/8524846/board-ad-h
 oc-routine-consent-committee-meeting-1-26
DTSTART:20260126T223000Z
DTEND:20260126T233000Z
END:VEVENT
END:VCALENDAR
