BEGIN:VCALENDAR
VERSION:2.0
PRODID:SchoolNow
CALSCALE:GREGORIAN
BEGIN:VEVENT
UID:5cc4b060-7ddb-11f0-a870-0affe844e53d
DTSTAMP:20250820T153555Z
SUMMARY:Board Ad Hoc Routine Consent Committee meeting (2/9)
LOCATION:Harriet Gibbons Student Services Center\, 75 Watervliet Ave.
URL;VALUE=URI:https://www.albanyschools.org/boe/calendar/8524847/board-ad-h
 oc-routine-consent-committee-meeting-2-9
DTSTART:20260209T223000Z
DTEND:20260209T233000Z
END:VEVENT
END:VCALENDAR
