BEGIN:VCALENDAR
VERSION:2.0
PRODID:SchoolNow
CALSCALE:GREGORIAN
BEGIN:VEVENT
UID:7604860e-7ddb-11f0-a796-0a58a9feac02
DTSTAMP:20250820T153638Z
SUMMARY:Board Ad Hoc Routine Consent Committee meeting (3/16)
LOCATION:Harriet Gibbons Student Services Center\, 75 Watervliet Ave.
URL;VALUE=URI:https://www.albanyschools.org/boe/calendar/8524849/board-ad-h
 oc-routine-consent-committee-meeting-3-16
DTSTART:20260316T213000Z
DTEND:20260316T223000Z
END:VEVENT
END:VCALENDAR
