BEGIN:VCALENDAR
VERSION:2.0
PRODID:SchoolNow
CALSCALE:GREGORIAN
BEGIN:VEVENT
UID:b71ea0fc-7ddb-11f0-8656-0affc1bf85c7
DTSTAMP:20250820T153827Z
SUMMARY:Board Ad Hoc Routine Consent Committee meeting (6/15)
LOCATION:Harriet Gibbons Student Services Center\, 75 Watervliet Ave.
URL;VALUE=URI:https://www.albanyschools.org/boe/calendar/8524854/board-ad-h
 oc-routine-consent-committee-meeting-6-15
DTSTART:20260615T213000Z
DTEND:20260615T223000Z
END:VEVENT
END:VCALENDAR
