BEGIN:VCALENDAR
VERSION:2.0
PRODID:SchoolNow
CALSCALE:GREGORIAN
BEGIN:VEVENT
UID:76d4e57a-7df8-11f0-a173-0a58a9feac02
DTSTAMP:20250820T190435Z
SUMMARY:Public hearing: District-Wide School Safety Plan (8/21)
URL;VALUE=URI:https://www.albanyschools.org/boe/calendar/8525788/public-hea
 ring-district-wide-school-safety-plan
DTSTART:20250821T213000Z
DTEND:20250821T223000Z
END:VEVENT
END:VCALENDAR
