BEGIN:VCALENDAR
VERSION:2.0
PRODID:SchoolNow
CALSCALE:GREGORIAN
BEGIN:VEVENT
UID:fd8c6532-8e80-11f0-9992-02d2225c000b
DTSTAMP:20250910T200545Z
SUMMARY:Public Hearing: 2025-26 Contract for Excellence (9/11)
URL;VALUE=URI:https://www.albanyschools.org/boe/calendar/8606367/public-hea
 ring-2025-26-contract-for-excellence
DTSTART:20250911T213000Z
DTEND:20250911T223000Z
END:VEVENT
END:VCALENDAR
