BEGIN:VCALENDAR
VERSION:2.0
PRODID:SchoolNow
CALSCALE:GREGORIAN
BEGIN:VEVENT
UID:378f2d18-958f-11f0-9fd7-0249ca2493a5
DTSTAMP:20250919T193119Z
SUMMARY:Board Government Relations Committee meeting (9/24)
LOCATION:Harriet Gibbons Student Services Center\, 75 Watervliet Ave.
URL;VALUE=URI:https://www.albanyschools.org/boe/calendar/8643448/board-gove
 rnment-relations-committee-meeting-9-24
DTSTART:20250924T120000Z
DTEND:20250924T130000Z
END:VEVENT
END:VCALENDAR
