BEGIN:VCALENDAR
VERSION:2.0
PRODID:SchoolNow
CALSCALE:GREGORIAN
BEGIN:VEVENT
UID:b46184ec-aac7-11f0-883d-0a58a9feac02
DTSTAMP:20251016T193835Z
SUMMARY:Board Audit/Finance Committee meeting (10/28)
LOCATION:Harriet Gibbons Student Services Center\, 75 Watervliet Ave.
URL;VALUE=URI:https://www.albanyschools.org/boe/calendar/8727609/board-audi
 t-finance-committee-meeting-10-28
DTSTART:20251028T213000Z
DTEND:20251028T223000Z
END:VEVENT
END:VCALENDAR
