BEGIN:VCALENDAR
VERSION:2.0
PRODID:SchoolNow
CALSCALE:GREGORIAN
BEGIN:VEVENT
UID:2bd35d5e-ab75-11f0-9790-0affcc472bef
DTSTAMP:20251021T182453Z
SUMMARY:Board Facilities Committee meeting (10/28)
LOCATION:Media center\, Harriet Gibbons Student Services Center
URL;VALUE=URI:https://www.albanyschools.org/boe/calendar/8729582/board-faci
 lities-committee-meeting-10-28
DTSTART:20251028T223000Z
DTEND:20251029T003000Z
END:VEVENT
END:VCALENDAR
