BEGIN:VCALENDAR
VERSION:2.0
PRODID:SchoolNow
CALSCALE:GREGORIAN
BEGIN:VEVENT
UID:368b61d2-adec-11f0-9ac6-0a58a9feac02
DTSTAMP:20251020T194226Z
SUMMARY:Board Policy Committee meeting (10/22)
LOCATION:Media center\, Harriet Gibbons Student Services Center
URL;VALUE=URI:https://www.albanyschools.org/boe/calendar/8736168/board-poli
 cy-committee-meeting-10-22
DTSTART:20251022T213000Z
DTEND:20251022T223000Z
END:VEVENT
END:VCALENDAR
