BEGIN:VCALENDAR
VERSION:2.0
PRODID:SchoolNow
CALSCALE:GREGORIAN
BEGIN:VEVENT
UID:6b32e422-aeab-11f0-a95c-0a58a9feac02
DTSTAMP:20251021T182611Z
SUMMARY:Board Facilities Committee meeting (RESCHEDULED TO 10/28)
URL;VALUE=URI:https://www.albanyschools.org/boe/calendar/8739545/board-faci
 lities-committee-meeting-10-28-clone
DTSTART:20251021T223000Z
DTEND:20251022T003000Z
END:VEVENT
END:VCALENDAR
