BEGIN:VCALENDAR
VERSION:2.0
PRODID:SchoolNow
CALSCALE:GREGORIAN
BEGIN:VEVENT
UID:4caa0648-d9f3-11f0-b5ac-0affde9e768d
DTSTAMP:20251215T201903Z
SUMMARY:Board of Education retreat (1/28)
LOCATION:Harriet Gibbons Student Services Center\, 75 Watervliet Ave.\, Alb
 any
URL;VALUE=URI:https://www.albanyschools.org/boe/calendar/8824024/board-of-e
 ducation-retreat-1-28
DTSTART:20260128T223000Z
DTEND:20260129T020000Z
END:VEVENT
END:VCALENDAR
