BEGIN:VCALENDAR
VERSION:2.0
PRODID:SchoolNow
CALSCALE:GREGORIAN
BEGIN:VEVENT
UID:5e6ba22a-0076-11f1-a452-02039515c9a7
DTSTAMP:20260202T203301Z
SUMMARY:Board Audit/Finance Committee meeting (2/2)
LOCATION:Harriet Gibbons Student Services Center\, 75 Watervliet Ave.
URL;VALUE=URI:https://www.albanyschools.org/boe/calendar/8848137/board-audi
 t-finance-committee-meeting-2-2
DTSTART:20260202T223000Z
DTEND:20260203T003000Z
END:VEVENT
END:VCALENDAR
