BEGIN:VCALENDAR
VERSION:2.0
PRODID:SchoolNow
CALSCALE:GREGORIAN
BEGIN:VEVENT
UID:7040a838-0076-11f1-a14f-0a58a9feac02
DTSTAMP:20260202T203351Z
SUMMARY:Board Facilities Committee meeting (2/2)
LOCATION:Harriet Gibbons Student Services Center\, 75 Watervliet Ave.
URL;VALUE=URI:https://www.albanyschools.org/boe/calendar/8848138/board-faci
 lities-committee-meeting-2-2
DTSTART:20260202T230000Z
DTEND:20260203T010000Z
END:VEVENT
END:VCALENDAR
