BEGIN:VCALENDAR
VERSION:2.0
PRODID:SchoolNow
CALSCALE:GREGORIAN
BEGIN:VEVENT
UID:153b49ee-13e4-11f1-993a-0a58a9feac02
DTSTAMP:20260303T203906Z
SUMMARY:Board Facilities Committee meeting (3/3)
LOCATION:Albany High School\, 700 Washington Ave.
URL;VALUE=URI:https://www.albanyschools.org/boe/calendar/8875742/board-faci
 lities-committee-meeting-3-3
DTSTART:20260303T224500Z
DTEND:20260304T004500Z
END:VEVENT
END:VCALENDAR
