BEGIN:VCALENDAR
VERSION:2.0
PRODID:SchoolNow
CALSCALE:GREGORIAN
BEGIN:VEVENT
UID:855cba12-8f0d-11ea-ad86-0a7ad5ef49e7
DTSTAMP:20200505T201802Z
SUMMARY:Public Board of Education budget meeting
DESCRIPTION:Anticipated executive session at 5:30 p.m.
URL;VALUE=URI:https://www.albanyschools.org/calendar/2244457/public-board-o
 f-education-budget-meeting
DTSTART:20200512T223000Z
DTEND:20200513T021500Z
END:VEVENT
END:VCALENDAR
