BEGIN:VCALENDAR
VERSION:2.0
PRODID:SchoolNow
CALSCALE:GREGORIAN
BEGIN:VEVENT
UID:a4db78d8-8f0d-11ea-89ff-0a7ad5ef49e7
DTSTAMP:20200505T201855Z
SUMMARY:Public Board of Education budget meeting
DESCRIPTION:Anticipated executive session at 5:30 p.m.
URL;VALUE=URI:https://www.albanyschools.org/calendar/2244459/public-board-o
 f-education-budget-meeting
DTSTART:20200514T223000Z
DTEND:20200515T021500Z
END:VEVENT
END:VCALENDAR
