BEGIN:VCALENDAR
VERSION:2.0
PRODID:SchoolNow
CALSCALE:GREGORIAN
BEGIN:VEVENT
UID:5ea43cac-daab-11eb-90ba-0252e0c9de03
DTSTAMP:20210803T164454Z
SUMMARY:Feeder Alignment Committee meeting (8/4)
URL;VALUE=URI:https://www.albanyschools.org/calendar/2633318/feeder-alignme
 nt-committee-meeting-clone
DTSTART:20210804T220000Z
DTEND:20210804T233000Z
END:VEVENT
END:VCALENDAR
