BEGIN:VCALENDAR
VERSION:2.0
PRODID:SchoolNow
CALSCALE:GREGORIAN
BEGIN:VEVENT
UID:f26b9f7a-2fa5-11ed-87a2-02c0a2214337
DTSTAMP:20220908T185028Z
SUMMARY:Albany Booster Club Falcon 5K
LOCATION:Washington Park
URL;VALUE=URI:https://www.albanyschools.org/calendar/3362615/falcon-5k
DTSTART:20221002T120000Z
DTEND:20221002T153000Z
END:VEVENT
END:VCALENDAR
