BEGIN:VCALENDAR
VERSION:2.0
PRODID:SchoolNow
CALSCALE:GREGORIAN
BEGIN:VEVENT
UID:0b0e8dcc-3e78-11ed-ba0f-02839e58e41b
DTSTAMP:20220927T153623Z
SUMMARY:CTE certification Q&A session
LOCATION:Albany High School Library\, 700 Washington Ave.
URL;VALUE=URI:https://www.albanyschools.org/calendar/3450269/cte-certificat
 ion-q-a-session
DTSTART:20221013T203000Z
DTEND:20221013T213000Z
END:VEVENT
END:VCALENDAR
