BEGIN:VCALENDAR
VERSION:2.0
PRODID:SchoolNow
CALSCALE:GREGORIAN
BEGIN:VEVENT
UID:3791105c-b6ca-11ed-a6e1-0ae84ceaf2d3
DTSTAMP:20230228T181939Z
SUMMARY:Special Education Parent Session: ADHD
URL;VALUE=URI:https://www.albanyschools.org/calendar/3790237/special-educat
 ion-parent-session
DTSTART:20230307T230000Z
DTEND:20230308T000000Z
END:VEVENT
END:VCALENDAR
