BEGIN:VCALENDAR
VERSION:2.0
PRODID:SchoolNow
CALSCALE:GREGORIAN
BEGIN:VEVENT
UID:1910d96c-d945-11ed-8fb2-02e2aaf95a39
DTSTAMP:20230412T153459Z
SUMMARY:5K run/walk to support Albany schools
LOCATION:Jennings Landing
URL;VALUE=URI:https://www.albanyschools.org/calendar/4035276/5k-run-walk-to
 -support-albany-schools
DTSTART:20230430T130000Z
DTEND:20230430T150000Z
END:VEVENT
END:VCALENDAR
