BEGIN:VCALENDAR
VERSION:2.0
PRODID:SchoolNow
CALSCALE:GREGORIAN
BEGIN:VEVENT
UID:26b175bc-1c30-11ee-8e29-0a0dffa2a585
DTSTAMP:20240201T210508Z
SUMMARY:Public Board of Education meeting (2/1)
DESCRIPTION:Anticipated executive session at 5:30 p.m.
LOCATION:Harriet Gibbons Student Services Center\, 75 Watervliet Ave.
URL;VALUE=URI:https://www.albanyschools.org/calendar/4475478/public-board-o
 f-education-meeting-2-1
DTSTART:20240201T233000Z
DTEND:20240202T003000Z
END:VEVENT
END:VCALENDAR
