BEGIN:VCALENDAR
VERSION:2.0
PRODID:SchoolNow
CALSCALE:GREGORIAN
BEGIN:VEVENT
UID:b52d6c2a-3c41-11ee-85ec-02a2a50e8e7b
DTSTAMP:20230816T143220Z
SUMMARY:NO SCHOOL: Parent-Teacher Conferences/PD Day
URL;VALUE=URI:https://www.albanyschools.org/calendar/4580406/no-school-pare
 nt-teacher-conferences-pd-day
DTSTART;VALUE=DATE:20240209
DTEND;VALUE=DATE:20240210
END:VEVENT
END:VCALENDAR
