BEGIN:VCALENDAR
VERSION:2.0
PRODID:SchoolNow
CALSCALE:GREGORIAN
BEGIN:VEVENT
UID:b52d6fae-3c41-11ee-8f83-02a2a50e8e7b
DTSTAMP:20230816T143220Z
SUMMARY:NO SCHOOL: Winter Recess
URL;VALUE=URI:https://www.albanyschools.org/calendar/4580408/no-school-wint
 er-recess
DTSTART;VALUE=DATE:20240219
DTEND;VALUE=DATE:20240224
END:VEVENT
END:VCALENDAR
