BEGIN:VCALENDAR
VERSION:2.0
PRODID:SchoolNow
CALSCALE:GREGORIAN
BEGIN:VEVENT
UID:b52d733c-3c41-11ee-ab00-02a2a50e8e7b
DTSTAMP:20230816T143220Z
SUMMARY:NO SCHOOL: Spring Recess
URL;VALUE=URI:https://www.albanyschools.org/calendar/4580410/no-school-spri
 ng-recess
DTSTART;VALUE=DATE:20240329
DTEND;VALUE=DATE:20240406
END:VEVENT
END:VCALENDAR
