BEGIN:VCALENDAR
VERSION:2.0
PRODID:SchoolNow
CALSCALE:GREGORIAN
BEGIN:VEVENT
UID:b52d76c0-3c41-11ee-abd6-02a2a50e8e7b
DTSTAMP:20240325T194212Z
SUMMARY:NO SCHOOL: Eid al-Fitr
URL;VALUE=URI:https://www.albanyschools.org/calendar/4580412/no-school-eid-
 al-fitr
DTSTART;VALUE=DATE:20240410
DTEND;VALUE=DATE:20240411
END:VEVENT
END:VCALENDAR
