BEGIN:VCALENDAR
VERSION:2.0
PRODID:SchoolNow
CALSCALE:GREGORIAN
BEGIN:VEVENT
UID:b52de0a6-3c41-11ee-a30a-02a2a50e8e7b
DTSTAMP:20230816T143220Z
SUMMARY:SECONDARY MARKING PERIOD (5/17)
URL;VALUE=URI:https://www.albanyschools.org/calendar/4580490/secondary-mark
 ing-period-5-17
DTSTART;VALUE=DATE:20240517
DTEND;VALUE=DATE:20240518
END:VEVENT
END:VCALENDAR
