BEGIN:VCALENDAR
VERSION:2.0
PRODID:SchoolNow
CALSCALE:GREGORIAN
BEGIN:VEVENT
UID:5e0e2a98-4e83-11ee-a207-0a58a9feac02
DTSTAMP:20230908T200756Z
SUMMARY:All-City Band Concert
LOCATION:Albany High School
URL;VALUE=URI:https://www.albanyschools.org/calendar/4703109/all-city-band-
 concert
DTSTART:20240327T223000Z
DTEND:20240327T233000Z
END:VEVENT
END:VCALENDAR
