BEGIN:VCALENDAR
VERSION:2.0
PRODID:SchoolNow
CALSCALE:GREGORIAN
BEGIN:VEVENT
UID:c63fea8e-6936-11ee-9383-0a58a9feac02
DTSTAMP:20231012T194619Z
SUMMARY:Parent-Teacher Conferences
URL;VALUE=URI:https://www.albanyschools.org/calendar/4858975/parent-teacher
 -conferences
DTSTART;VALUE=DATE:20231026
DTEND;VALUE=DATE:20231028
END:VEVENT
END:VCALENDAR
