BEGIN:VCALENDAR
VERSION:2.0
PRODID:SchoolNow
CALSCALE:GREGORIAN
BEGIN:VEVENT
UID:0d70a8a6-8239-11ee-b5ba-027f70bdc243
DTSTAMP:20231113T152644Z
SUMMARY:Early dismissal for Clement and district's three middle schools
URL;VALUE=URI:https://www.albanyschools.org/calendar/4943936/early-dismissa
 l-for-clement-and-districts-three-middle-schools-clone
DTSTART:20240214T173000Z
DTEND:20240214T183000Z
END:VEVENT
END:VCALENDAR
