BEGIN:VCALENDAR
VERSION:2.0
PRODID:SchoolNow
CALSCALE:GREGORIAN
BEGIN:VEVENT
UID:e6025acc-a979-11ee-933d-0ab5294891b1
DTSTAMP:20240109T142550Z
SUMMARY:Music Teacher Concert
LOCATION:Albany High School auditorium
URL;VALUE=URI:https://www.albanyschools.org/calendar/5092403/music-teacher-
 concert
DTSTART:20240123T233000Z
DTEND:20240124T003000Z
END:VEVENT
END:VCALENDAR
