BEGIN:VCALENDAR
VERSION:2.0
PRODID:SchoolNow
CALSCALE:GREGORIAN
BEGIN:VEVENT
UID:03d2c8cc-a97d-11ee-8d37-0a58a9feac02
DTSTAMP:20240102T144129Z
SUMMARY:Albany High Spring Musical (3/8)
LOCATION:Albany High auditorium
URL;VALUE=URI:https://www.albanyschools.org/calendar/5092408/albany-high-sp
 ring-musical-clone
DTSTART:20240308T233000Z
DTEND:20240309T003000Z
END:VEVENT
END:VCALENDAR
