BEGIN:VCALENDAR
VERSION:2.0
PRODID:SchoolNow
CALSCALE:GREGORIAN
BEGIN:VEVENT
UID:3248765c-a97d-11ee-83aa-0a58a9feac02
DTSTAMP:20240102T144247Z
SUMMARY:Albany High Spring Musical (3/10)
LOCATION:Albany High auditorium
URL;VALUE=URI:https://www.albanyschools.org/calendar/5092410/albany-high-sp
 ring-musical-3-10
DTSTART:20240310T180000Z
DTEND:20240310T190000Z
END:VEVENT
END:VCALENDAR
