BEGIN:VCALENDAR
VERSION:2.0
PRODID:SchoolNow
CALSCALE:GREGORIAN
BEGIN:VEVENT
UID:482eae1e-a97d-11ee-9466-0a58a9feac02
DTSTAMP:20240102T144324Z
SUMMARY:Albany High Spring Musical (3/9)
LOCATION:Albany High auditorium
URL;VALUE=URI:https://www.albanyschools.org/calendar/5092411/albany-high-sp
 ring-musical
DTSTART:20240309T233000Z
DTEND:20240310T003000Z
END:VEVENT
END:VCALENDAR
