BEGIN:VCALENDAR
VERSION:2.0
PRODID:SchoolNow
CALSCALE:GREGORIAN
BEGIN:VEVENT
UID:b1866542-aa44-11ee-8e13-02eb09dccf97
DTSTAMP:20240104T163329Z
SUMMARY:Magnet Open House: Montessori
LOCATION:45 Tremont St.
URL;VALUE=URI:https://www.albanyschools.org/calendar/5097919/montessori-mag
 net-school-open-house
DTSTART:20240201T230000Z
DTEND:20240202T000000Z
END:VEVENT
END:VCALENDAR
