BEGIN:VCALENDAR
VERSION:2.0
PRODID:SchoolNow
CALSCALE:GREGORIAN
BEGIN:VEVENT
UID:e7bbab68-aa44-11ee-b020-0a58a9feac02
DTSTAMP:20240104T163348Z
SUMMARY:Magnet Open House: ASH
LOCATION:108 Whitehall Rd.
URL;VALUE=URI:https://www.albanyschools.org/calendar/5097923/albany-school-
 of-humanities-magnet-open-house
DTSTART:20240206T230000Z
DTEND:20240207T000000Z
END:VEVENT
END:VCALENDAR
