BEGIN:VCALENDAR
VERSION:2.0
PRODID:SchoolNow
CALSCALE:GREGORIAN
BEGIN:VEVENT
UID:1ce67e26-aa45-11ee-8e1b-0a58a9feac02
DTSTAMP:20240129T195523Z
SUMMARY:Magnet Open House: Dual Language
LOCATION:50 Lark St.
URL;VALUE=URI:https://www.albanyschools.org/calendar/5097925/dual-language-
 magnet-open-house
DTSTART:20240213T233000Z
DTEND:20240214T003000Z
END:VEVENT
END:VCALENDAR
