BEGIN:VCALENDAR
VERSION:2.0
PRODID:SchoolNow
CALSCALE:GREGORIAN
BEGIN:VEVENT
UID:505297a4-aa45-11ee-a55d-0a58a9feac02
DTSTAMP:20240104T163417Z
SUMMARY:Magnet Open House: TOAST
LOCATION:94 Delaware Ave.
URL;VALUE=URI:https://www.albanyschools.org/calendar/5097927/magnet-open-ho
 use-toast
DTSTART:20240215T230000Z
DTEND:20240216T000000Z
END:VEVENT
END:VCALENDAR
