BEGIN:VCALENDAR
VERSION:2.0
PRODID:SchoolNow
CALSCALE:GREGORIAN
BEGIN:VEVENT
UID:b09d2b0e-ab19-11ee-8cf1-0a58a9feac02
DTSTAMP:20240320T154533Z
SUMMARY:Parent University: Sex Education in New York
LOCATION:North Albany Middle School\, 570 North Pearl St.
URL;VALUE=URI:https://www.albanyschools.org/calendar/5103643/pu-sex-educati
 on-in-new-york
DTSTART:20240416T230000Z
DTEND:20240417T000000Z
END:VEVENT
END:VCALENDAR
