BEGIN:VCALENDAR
VERSION:2.0
PRODID:SchoolNow
CALSCALE:GREGORIAN
BEGIN:VEVENT
UID:5b2e3bf8-c537-11ee-bc22-0a58a9feac02
DTSTAMP:20240827T145307Z
SUMMARY:2024-25 SCHOOL YEAR BEGINS
URL;VALUE=URI:https://www.albanyschools.org/calendar/5274953/first-day-of-s
 chool-for-the-2024-25-school-year
DTSTART;VALUE=DATE:20240906
DTEND;VALUE=DATE:20240907
END:VEVENT
END:VCALENDAR
