BEGIN:VCALENDAR
VERSION:2.0
PRODID:SchoolNow
CALSCALE:GREGORIAN
BEGIN:VEVENT
UID:35282864-d032-11ee-b46c-0a58a9feac02
DTSTAMP:20240220T205526Z
SUMMARY:Special Ed Parent Advisory Council meeting
URL;VALUE=URI:https://www.albanyschools.org/calendar/5368671/special-ed-par
 ent-advisory-council-meeting
DTSTART:20240229T233000Z
DTEND:20240301T003000Z
END:VEVENT
END:VCALENDAR
