BEGIN:VCALENDAR
VERSION:2.0
PRODID:SchoolNow
CALSCALE:GREGORIAN
BEGIN:VEVENT
UID:f9c28bda-d198-11ee-9b4a-0ae4f226ceb1
DTSTAMP:20240222T160201Z
SUMMARY:Albany High jazz at Spinners on 3/1
LOCATION:22 Picotte Dr.
URL;VALUE=URI:https://www.albanyschools.org/calendar/5381498/albany-high-ja
 zz-at-spinners-on-3-1
DTSTART:20240302T000000Z
DTEND:20240302T030000Z
END:VEVENT
END:VCALENDAR
