BEGIN:VCALENDAR
VERSION:2.0
PRODID:SchoolNow
CALSCALE:GREGORIAN
BEGIN:VEVENT
UID:2e5e668c-dd67-11ee-829a-0affe907dcef
DTSTAMP:20240308T161612Z
SUMMARY:Tech Valley Regional First Robotics Competition
LOCATION:MVP Arena\, 51 S. Pearl St.
URL;VALUE=URI:https://www.albanyschools.org/calendar/5494919/tech-valley-re
 gional-first-robotics-competition
DTSTART;VALUE=DATE:20240322
DTEND;VALUE=DATE:20240324
END:VEVENT
END:VCALENDAR
