BEGIN:VCALENDAR
VERSION:2.0
PRODID:SchoolNow
CALSCALE:GREGORIAN
BEGIN:VEVENT
UID:f55c61e8-dd72-11ee-aa4b-0affc04c4fdf
DTSTAMP:20240308T175259Z
SUMMARY:Special Ed Parent Advisory Council meeting
URL;VALUE=URI:https://www.albanyschools.org/calendar/5496113/special-ed-par
 ent-advisory-council-meeting
DTSTART:20240314T223000Z
DTEND:20240314T233000Z
END:VEVENT
END:VCALENDAR
