BEGIN:VCALENDAR
VERSION:2.0
PRODID:SchoolNow
CALSCALE:GREGORIAN
BEGIN:VEVENT
UID:0e5475d0-dfc8-11ee-88f9-0a58a9feac02
DTSTAMP:20240311T170017Z
SUMMARY:Marching Falcons in North Albany St. Patrick's Day parade
URL;VALUE=URI:https://www.albanyschools.org/calendar/5518284/marching-falco
 ns-in-north-albany-st-patricks-day-parade
DTSTART:20240316T150000Z
DTEND:20240316T160000Z
END:VEVENT
END:VCALENDAR
