BEGIN:VCALENDAR
VERSION:2.0
PRODID:SchoolNow
CALSCALE:GREGORIAN
BEGIN:VEVENT
UID:5c9e95d6-dfc8-11ee-b328-0a58a9feac02
DTSTAMP:20240313T140013Z
SUMMARY:Marching Falcons in city St. Patrick's Day parade
URL;VALUE=URI:https://www.albanyschools.org/calendar/5518285/marching-falco
 ns-in-city-st-patricks-day-parade
DTSTART:20240316T180000Z
DTEND:20240316T190000Z
END:VEVENT
END:VCALENDAR
