BEGIN:VCALENDAR
VERSION:2.0
PRODID:SchoolNow
CALSCALE:GREGORIAN
BEGIN:VEVENT
UID:294876f8-dfcc-11ee-ac4c-0a58a9feac02
DTSTAMP:20240320T112305Z
SUMMARY:Virtual parent training: "Why Does My Child Keep Doing That?"
URL;VALUE=URI:https://www.albanyschools.org/calendar/5518729/virtual-parent
 -training-why-does-my-child-keep-doing-that
DTSTART:20240327T220000Z
DTEND:20240327T230000Z
END:VEVENT
END:VCALENDAR
