BEGIN:VCALENDAR
VERSION:2.0
PRODID:SchoolNow
CALSCALE:GREGORIAN
BEGIN:VEVENT
UID:d5e94af6-e529-11ee-80fd-0a58a9feac02
DTSTAMP:20240422T145007Z
SUMMARY:NYS ELA exam | Grade 7
URL;VALUE=URI:https://www.albanyschools.org/calendar/5572276/nys-ela-exam-g
 rade-7
DTSTART:20240430T131600Z
DTEND:20240501T141600Z
END:VEVENT
END:VCALENDAR
