BEGIN:VCALENDAR
VERSION:2.0
PRODID:SchoolNow
CALSCALE:GREGORIAN
BEGIN:VEVENT
UID:80118c32-e52a-11ee-bcd5-0affc1c90147
DTSTAMP:20240430T173426Z
SUMMARY:NYS math exam | Grades 3-8
URL;VALUE=URI:https://www.albanyschools.org/calendar/5572304/nys-math-exam-
 grades-3-8
DTSTART:20240507T132100Z
DTEND:20240508T142100Z
END:VEVENT
END:VCALENDAR
